BEGIN:VCALENDAR
VERSION:2.0
PRODID:-//ORL - ECPv6.3.6//NONSGML v1.0//EN
CALSCALE:GREGORIAN
METHOD:PUBLISH
X-WR-CALNAME:ORL
X-ORIGINAL-URL:https://orlumtl.ca
X-WR-CALDESC:Events for ORL
REFRESH-INTERVAL;VALUE=DURATION:PT1H
X-Robots-Tag:noindex
X-PUBLISHED-TTL:PT1H
BEGIN:VTIMEZONE
TZID:America/New_York
BEGIN:DAYLIGHT
TZOFFSETFROM:-0500
TZOFFSETTO:-0400
TZNAME:EDT
DTSTART:20230312T070000
END:DAYLIGHT
BEGIN:STANDARD
TZOFFSETFROM:-0400
TZOFFSETTO:-0500
TZNAME:EST
DTSTART:20231105T060000
END:STANDARD
END:VTIMEZONE
BEGIN:VEVENT
DTSTART;TZID=America/New_York:20230512T180000
DTEND;TZID=America/New_York:20230512T220000
DTSTAMP:20260422T183930
CREATED:20221109T163600Z
LAST-MODIFIED:20230313T171122Z
UID:2768-1683914400-1683928800@orlumtl.ca
SUMMARY:GALA 2023 - ÉVÉNEMENT ANNULÉ
DESCRIPTION:
URL:https://orlumtl.ca/evenement/gala-2023/
LOCATION:Qc\, Canada
CATEGORIES:En vedette
ATTACH;FMTTYPE=image/jpeg:https://orlumtl.ca/wp-content/uploads/2022/11/76486-003-Logo_Gala.jpg
END:VEVENT
END:VCALENDAR