BEGIN:VCALENDAR
VERSION:2.0
PRODID:-//ORL - ECPv6.3.6//NONSGML v1.0//EN
CALSCALE:GREGORIAN
METHOD:PUBLISH
X-WR-CALNAME:ORL
X-ORIGINAL-URL:https://orlumtl.ca
X-WR-CALDESC:Events for ORL
REFRESH-INTERVAL;VALUE=DURATION:PT1H
X-Robots-Tag:noindex
X-PUBLISHED-TTL:PT1H
BEGIN:VTIMEZONE
TZID:America/New_York
BEGIN:DAYLIGHT
TZOFFSETFROM:-0500
TZOFFSETTO:-0400
TZNAME:EDT
DTSTART:20190310T070000
END:DAYLIGHT
BEGIN:STANDARD
TZOFFSETFROM:-0400
TZOFFSETTO:-0500
TZNAME:EST
DTSTART:20191103T060000
END:STANDARD
BEGIN:DAYLIGHT
TZOFFSETFROM:-0500
TZOFFSETTO:-0400
TZNAME:EDT
DTSTART:20200308T070000
END:DAYLIGHT
BEGIN:STANDARD
TZOFFSETFROM:-0400
TZOFFSETTO:-0500
TZNAME:EST
DTSTART:20201101T060000
END:STANDARD
BEGIN:DAYLIGHT
TZOFFSETFROM:-0500
TZOFFSETTO:-0400
TZNAME:EDT
DTSTART:20210314T070000
END:DAYLIGHT
BEGIN:STANDARD
TZOFFSETFROM:-0400
TZOFFSETTO:-0500
TZNAME:EST
DTSTART:20211107T060000
END:STANDARD
BEGIN:DAYLIGHT
TZOFFSETFROM:-0500
TZOFFSETTO:-0400
TZNAME:EDT
DTSTART:20220313T070000
END:DAYLIGHT
BEGIN:STANDARD
TZOFFSETFROM:-0400
TZOFFSETTO:-0500
TZNAME:EST
DTSTART:20221106T060000
END:STANDARD
BEGIN:DAYLIGHT
TZOFFSETFROM:-0500
TZOFFSETTO:-0400
TZNAME:EDT
DTSTART:20230312T070000
END:DAYLIGHT
BEGIN:STANDARD
TZOFFSETFROM:-0400
TZOFFSETTO:-0500
TZNAME:EST
DTSTART:20231105T060000
END:STANDARD
END:VTIMEZONE
BEGIN:VEVENT
DTSTART;TZID=America/New_York:20230515T183000
DTEND;TZID=America/New_York:20230515T233000
DTSTAMP:20260420T121112
CREATED:20221121T144948Z
LAST-MODIFIED:20221121T184324Z
UID:2809-1684175400-1684193400@orlumtl.ca
SUMMARY:Grand Rounds
DESCRIPTION:
URL:https://orlumtl.ca/evenement/grand-rounds-19/
LOCATION:Zoom\, Qc\, Canada
CATEGORIES:Grand Round
ATTACH;FMTTYPE=image/png:https://orlumtl.ca/wp-content/uploads/2017/03/Icône-Grand-Round-01-1.png
END:VEVENT
BEGIN:VEVENT
DTSTART;TZID=America/New_York:20230512T180000
DTEND;TZID=America/New_York:20230512T220000
DTSTAMP:20260420T121112
CREATED:20221109T163600Z
LAST-MODIFIED:20230313T171122Z
UID:2768-1683914400-1683928800@orlumtl.ca
SUMMARY:GALA 2023 - ÉVÉNEMENT ANNULÉ
DESCRIPTION:
URL:https://orlumtl.ca/evenement/gala-2023/
LOCATION:Qc\, Canada
CATEGORIES:En vedette
ATTACH;FMTTYPE=image/jpeg:https://orlumtl.ca/wp-content/uploads/2022/11/76486-003-Logo_Gala.jpg
END:VEVENT
BEGIN:VEVENT
DTSTART;TZID=America/New_York:20230508T183000
DTEND;TZID=America/New_York:20230508T233000
DTSTAMP:20260420T121112
CREATED:20221121T144903Z
LAST-MODIFIED:20221121T184352Z
UID:2807-1683570600-1683588600@orlumtl.ca
SUMMARY:Journal Club
DESCRIPTION:
URL:https://orlumtl.ca/evenement/journal-club-20/
LOCATION:Zoom\, Qc\, Canada
CATEGORIES:Journal Club
ATTACH;FMTTYPE=image/png:https://orlumtl.ca/wp-content/uploads/2017/03/Icône-Journal-club-01-1-1.png
END:VEVENT
BEGIN:VEVENT
DTSTART;TZID=America/New_York:20230424T183000
DTEND;TZID=America/New_York:20230424T233000
DTSTAMP:20260420T121112
CREATED:20221121T144822Z
LAST-MODIFIED:20221121T184715Z
UID:2805-1682361000-1682379000@orlumtl.ca
SUMMARY:Grand Rounds
DESCRIPTION:
URL:https://orlumtl.ca/evenement/grand-rounds-18/
LOCATION:Zoom\, Qc\, Canada
CATEGORIES:Grand Round
ATTACH;FMTTYPE=image/png:https://orlumtl.ca/wp-content/uploads/2017/03/Icône-Grand-Round-01-1.png
END:VEVENT
BEGIN:VEVENT
DTSTART;TZID=America/New_York:20230417T183000
DTEND;TZID=America/New_York:20230417T233000
DTSTAMP:20260420T121112
CREATED:20221121T144728Z
LAST-MODIFIED:20221121T184729Z
UID:2803-1681756200-1681774200@orlumtl.ca
SUMMARY:Journal Club
DESCRIPTION:
URL:https://orlumtl.ca/evenement/journal-club-19/
LOCATION:Zoom\, Qc\, Canada
CATEGORIES:Journal Club
ATTACH;FMTTYPE=image/png:https://orlumtl.ca/wp-content/uploads/2017/03/Icône-Journal-club-01-1-1.png
END:VEVENT
BEGIN:VEVENT
DTSTART;TZID=America/New_York:20230327T183000
DTEND;TZID=America/New_York:20230327T233000
DTSTAMP:20260420T121112
CREATED:20221121T144657Z
LAST-MODIFIED:20221121T184744Z
UID:2801-1679941800-1679959800@orlumtl.ca
SUMMARY:Grand Rounds
DESCRIPTION:
URL:https://orlumtl.ca/evenement/grand-rounds-17/
LOCATION:Zoom\, Qc\, Canada
CATEGORIES:Grand Round
ATTACH;FMTTYPE=image/png:https://orlumtl.ca/wp-content/uploads/2017/03/Icône-Grand-Round-01-1.png
END:VEVENT
BEGIN:VEVENT
DTSTART;TZID=America/New_York:20230313T183000
DTEND;TZID=America/New_York:20230313T233000
DTSTAMP:20260420T121112
CREATED:20221121T144519Z
LAST-MODIFIED:20221121T184757Z
UID:2799-1678732200-1678750200@orlumtl.ca
SUMMARY:Journal Club
DESCRIPTION:
URL:https://orlumtl.ca/evenement/journal-club-18/
LOCATION:Zoom\, Qc\, Canada
CATEGORIES:Journal Club
ATTACH;FMTTYPE=image/png:https://orlumtl.ca/wp-content/uploads/2017/03/Icône-Journal-club-01-1-1.png
END:VEVENT
BEGIN:VEVENT
DTSTART;TZID=America/New_York:20230220T183000
DTEND;TZID=America/New_York:20230220T233000
DTSTAMP:20260420T121112
CREATED:20221121T144449Z
LAST-MODIFIED:20221121T184811Z
UID:2797-1676917800-1676935800@orlumtl.ca
SUMMARY:Grand Rounds
DESCRIPTION:
URL:https://orlumtl.ca/evenement/grand-rounds-16/
LOCATION:Zoom\, Qc\, Canada
CATEGORIES:Grand Round
ATTACH;FMTTYPE=image/png:https://orlumtl.ca/wp-content/uploads/2017/03/Icône-Grand-Round-01-1.png
END:VEVENT
BEGIN:VEVENT
DTSTART;TZID=America/New_York:20230206T183000
DTEND;TZID=America/New_York:20230206T233000
DTSTAMP:20260420T121112
CREATED:20221121T144406Z
LAST-MODIFIED:20221121T185021Z
UID:2795-1675708200-1675726200@orlumtl.ca
SUMMARY:Journal Club
DESCRIPTION:
URL:https://orlumtl.ca/evenement/journal-club-17/
LOCATION:Zoom\, Qc\, Canada
CATEGORIES:Journal Club
ATTACH;FMTTYPE=image/png:https://orlumtl.ca/wp-content/uploads/2017/03/Icône-Journal-club-01-1-1.png
END:VEVENT
BEGIN:VEVENT
DTSTART;TZID=America/New_York:20230123T183000
DTEND;TZID=America/New_York:20230123T233000
DTSTAMP:20260420T121112
CREATED:20221121T144336Z
LAST-MODIFIED:20221121T184823Z
UID:2793-1674498600-1674516600@orlumtl.ca
SUMMARY:Grand Rounds
DESCRIPTION:
URL:https://orlumtl.ca/evenement/grand-rounds-15/
LOCATION:Zoom\, Qc\, Canada
CATEGORIES:Grand Round
ATTACH;FMTTYPE=image/png:https://orlumtl.ca/wp-content/uploads/2017/03/Icône-Grand-Round-01-1.png
END:VEVENT
BEGIN:VEVENT
DTSTART;TZID=America/New_York:20230109T183000
DTEND;TZID=America/New_York:20230109T233000
DTSTAMP:20260420T121112
CREATED:20221121T144205Z
LAST-MODIFIED:20221121T184837Z
UID:2790-1673289000-1673307000@orlumtl.ca
SUMMARY:Journal Club
DESCRIPTION:
URL:https://orlumtl.ca/evenement/journal-club-16/
LOCATION:Qc\, Canada
CATEGORIES:Journal Club
ATTACH;FMTTYPE=image/png:https://orlumtl.ca/wp-content/uploads/2017/03/Icône-Journal-club-01-1-1.png
END:VEVENT
BEGIN:VEVENT
DTSTART;TZID=America/New_York:20221205T183000
DTEND;TZID=America/New_York:20221205T233000
DTSTAMP:20260420T121112
CREATED:20221121T143813Z
LAST-MODIFIED:20221121T184852Z
UID:2787-1670265000-1670283000@orlumtl.ca
SUMMARY:Journal Club
DESCRIPTION:
URL:https://orlumtl.ca/evenement/journal-club-10/
LOCATION:Zoom\, Qc\, Canada
CATEGORIES:Journal Club
ATTACH;FMTTYPE=image/png:https://orlumtl.ca/wp-content/uploads/2017/03/Icône-Journal-club-01-1-1.png
END:VEVENT
BEGIN:VEVENT
DTSTART;TZID=America/New_York:20221121T183000
DTEND;TZID=America/New_York:20221121T233000
DTSTAMP:20260420T121112
CREATED:20221121T143250Z
LAST-MODIFIED:20221121T184947Z
UID:2783-1669055400-1669073400@orlumtl.ca
SUMMARY:Grand Rounds
DESCRIPTION:
URL:https://orlumtl.ca/evenement/grand-rounds-14/
LOCATION:Zoom\, Qc\, Canada
CATEGORIES:Grand Round
ATTACH;FMTTYPE=image/png:https://orlumtl.ca/wp-content/uploads/2017/03/Icône-Grand-Round-01-1.png
END:VEVENT
BEGIN:VEVENT
DTSTART;TZID=America/New_York:20200525T173000
DTEND;TZID=America/New_York:20200525T183000
DTSTAMP:20260420T121112
CREATED:20170822T185706Z
LAST-MODIFIED:20190909T230630Z
UID:2087-1590427800-1590431400@orlumtl.ca
SUMMARY:Grand Rounds
DESCRIPTION:Les soirées académiques du programme d’ORL de l’Université de Montréal sont une activité de formation collective qui s’adressent à tous les ORL du Québec. Ces réunions bimensuelles qui se déroulent à l’Hôpital Sainte-Justine de Montréal sont conformes au exigences pour le maintien du certificat du Collège royal des médecins et des chirurgiens du Canada. Lors des Grand Rounds\, les présentateurs discutent de cas cliniques devant une assistance composée d’ORL\, de médecins et de résidents. Ces soirées permettent des échanges très formateurs entre les différents professionnels présents sur place ou en visioconférence.
URL:https://orlumtl.ca/evenement/grand-rounds-7/
LOCATION:Amphithéâtre du CHU Sainte-Justine\, 3175 Chemin de la Côte-Sainte-Catherine\, Montréal\, Qc\, H3T 1C5\, Canada
CATEGORIES:Grand Round
ATTACH;FMTTYPE=image/png:https://orlumtl.ca/wp-content/uploads/2017/03/Icône-Grand-Round-01-1.png
END:VEVENT
BEGIN:VEVENT
DTSTART;TZID=America/New_York:20200508T183000
DTEND;TZID=America/New_York:20200508T230000
DTSTAMP:20260420T121112
CREATED:20181120T195745Z
LAST-MODIFIED:20190917T231652Z
UID:2438-1588962600-1588978800@orlumtl.ca
SUMMARY:6e Gala de la recherche en ORL
DESCRIPTION:Les médecins et chercheurs de la Division d’ORL et de chirurgie cervico-faciale de l’Université de Montréal vous convient au 6e Gala annuel de la recherche ORL le vendredi 8 mai 2020 à l’Agora du CRCHUM. \nCette soirée permettra d’amasser des fonds pour soutenir des projets de recherche qui amélioreront les traitements\, mais aussi les techniques d’intervention pour les patients atteints de maladies et de cancers ORL. Ces maladies handicapent l’ouïe\, le goût\, l’odorat\, la parole et la vue\, des sens essentiels à une qualité de vie. Nous voulons faire plus et faire mieux pour nos patients. Pour y arriver\, nous avons besoin de votre soutien. \nEn formule cocktail dînatoire\, cette soirée se déroulera dans une ambiance lounge. Médecins\, chercheurs et personnalités de tous horizons s’y rencontreront pour célébrer les progrès et les efforts de nos chercheurs d’ici.
URL:https://orlumtl.ca/evenement/6e-gala-de-la-recherch-en-orl/
LOCATION:Agora du CRCHUM\, 900\, rue Saint-Denis\, Montréal\, Qc\, H2X 0A9\, Canada
CATEGORIES:En vedette
ATTACH;FMTTYPE=image/jpeg:https://orlumtl.ca/wp-content/uploads/2017/02/225_Gala_ORL_3-05-2019_web.jpg
END:VEVENT
BEGIN:VEVENT
DTSTART;TZID=America/New_York:20200504T183000
DTEND;TZID=America/New_York:20200504T191500
DTSTAMP:20260420T121112
CREATED:20170822T185528Z
LAST-MODIFIED:20190909T230549Z
UID:2085-1588617000-1588619700@orlumtl.ca
SUMMARY:Journal Club
DESCRIPTION:Les soirées académiques du programme d’ORL de l’Université de Montréal sont une activité de formation collective qui s’adressent à tous les ORL du Québec. Ces réunions bimensuelles qui se déroulent à l’Hôpital Sainte-Justine de Montréal sont conformes au exigences pour le maintien du certificat du Collège royal des médecins et des chirurgiens du Canada. Lors des Journal Club\, les présentateurs discutent d’articles scientifiques devant une assistance composée d’ORL\, de médecins et de résidents. Ces soirées permettent des échanges très formateurs entre les différents professionnels présents sur place ou en visioconférence.
URL:https://orlumtl.ca/evenement/journal-club-8/
LOCATION:Amphithéâtre du CHU Sainte-Justine\, 3175 Chemin de la Côte-Sainte-Catherine\, Montréal\, Qc\, H3T 1C5\, Canada
CATEGORIES:Journal Club
ATTACH;FMTTYPE=image/png:https://orlumtl.ca/wp-content/uploads/2017/03/Icône-Journal-club-01-1.png
END:VEVENT
BEGIN:VEVENT
DTSTART;TZID=America/New_York:20200420T173000
DTEND;TZID=America/New_York:20200420T191500
DTSTAMP:20260420T121112
CREATED:20170822T190005Z
LAST-MODIFIED:20190909T230512Z
UID:2091-1587403800-1587410100@orlumtl.ca
SUMMARY:Grand Rounds
DESCRIPTION:Les soirées académiques du programme d’ORL de l’Université de Montréal sont une activité de formation collective qui s’adressent à tous les ORL du Québec. Ces réunions bimensuelles qui se déroulent à l’Hôpital Sainte-Justine de Montréal sont conformes au exigences pour le maintien du certificat du Collège royal des médecins et des chirurgiens du Canada. Lors des Grand Rounds\, les présentateurs discutent de cas cliniques devant une assistance composée d’ORL\, de médecins et de résidents. Ces soirées permettent des échanges très formateurs entre les différents professionnels présents sur place ou en visioconférence.
URL:https://orlumtl.ca/evenement/grand-rounds-8/
LOCATION:Amphithéâtre du CHU Sainte-Justine\, 3175 Chemin de la Côte-Sainte-Catherine\, Montréal\, Qc\, H3T 1C5\, Canada
CATEGORIES:Grand Round
ATTACH;FMTTYPE=image/png:https://orlumtl.ca/wp-content/uploads/2017/03/Icône-Grand-Round-01-1.png
END:VEVENT
BEGIN:VEVENT
DTSTART;VALUE=DATE:20200418
DTEND;VALUE=DATE:20200419
DTSTAMP:20260420T121112
CREATED:20181120T201040Z
LAST-MODIFIED:20200108T213909Z
UID:2441-1587168000-1587254399@orlumtl.ca
SUMMARY:Entretiens ORL
DESCRIPTION:Journée conférence dédiée aux praticiens oto-rhino-laryngologistes du Québec.
URL:https://orlumtl.ca/evenement/entretiens-orl/
LOCATION:Amphithéâtre du CHU Sainte-Justine\, 3175 Chemin de la Côte-Sainte-Catherine\, Montréal\, Qc\, H3T 1C5\, Canada
CATEGORIES:Journée scientifique-entretien ORL
END:VEVENT
BEGIN:VEVENT
DTSTART;TZID=America/New_York:20200406T183000
DTEND;TZID=America/New_York:20200406T191500
DTSTAMP:20260420T121112
CREATED:20170822T185832Z
LAST-MODIFIED:20190909T230430Z
UID:2089-1586197800-1586200500@orlumtl.ca
SUMMARY:Journal Club
DESCRIPTION:Les soirées académiques du programme d’ORL de l’Université de Montréal sont une activité de formation collective qui s’adressent à tous les ORL du Québec. Ces réunions bimensuelles qui se déroulent à l’Hôpital Sainte-Justine de Montréal sont conformes au exigences pour le maintien du certificat du Collège royal des médecins et des chirurgiens du Canada. Lors des Journal Club\, les présentateurs discutent d’articles scientifiques devant une assistance composée d’ORL\, de médecins et de résidents. Ces soirées permettent des échanges très formateurs entre les différents professionnels présents sur place ou en visioconférence.
URL:https://orlumtl.ca/evenement/journal-club-9/
LOCATION:Amphithéâtre du CHU Sainte-Justine\, 3175 Chemin de la Côte-Sainte-Catherine\, Montréal\, Qc\, H3T 1C5\, Canada
CATEGORIES:Journal Club
ATTACH;FMTTYPE=image/png:https://orlumtl.ca/wp-content/uploads/2017/03/Icône-Journal-club-01-1.png
END:VEVENT
BEGIN:VEVENT
DTSTART;TZID=America/New_York:20200323T173000
DTEND;TZID=America/New_York:20200323T191500
DTSTAMP:20260420T121112
CREATED:20181120T193147Z
LAST-MODIFIED:20190909T230336Z
UID:2420-1584984600-1584990900@orlumtl.ca
SUMMARY:Grand Rounds
DESCRIPTION:Les soirées académiques du programme d’ORL de l’Université de Montréal sont une activité de formation collective qui s’adressent à tous les ORL du Québec. Ces réunions bimensuelles qui se déroulent à l’Hôpital Sainte-Justine de Montréal sont conformes au exigences pour le maintien du certificat du Collège royal des médecins et des chirurgiens du Canada. Lors des Grand Rounds\, les présentateurs discutent de cas cliniques devant une assistance composée d’ORL\, de médecins et de résidents. Ces soirées permettent des échanges très formateurs entre les différents professionnels présents sur place ou en visioconférence.
URL:https://orlumtl.ca/evenement/grand-rounds-9/
LOCATION:Amphithéâtre du CHU Sainte-Justine\, 3175 Chemin de la Côte-Sainte-Catherine\, Montréal\, Qc\, H3T 1C5\, Canada
CATEGORIES:Grand Round
ATTACH;FMTTYPE=image/png:https://orlumtl.ca/wp-content/uploads/2017/03/Icône-Grand-Round-01-1.png
END:VEVENT
BEGIN:VEVENT
DTSTART;TZID=America/New_York:20200309T183000
DTEND;TZID=America/New_York:20200309T191500
DTSTAMP:20260420T121112
CREATED:20170822T185127Z
LAST-MODIFIED:20190909T231235Z
UID:2081-1583778600-1583781300@orlumtl.ca
SUMMARY:Journal Club
DESCRIPTION:Les soirées académiques du programme d’ORL de l’Université de Montréal sont une activité de formation collective qui s’adressent à tous les ORL du Québec. Ces réunions bimensuelles qui se déroulent à l’Hôpital Sainte-Justine de Montréal sont conformes au exigences pour le maintien du certificat du Collège royal des médecins et des chirurgiens du Canada. Lors des Journal Club\, les présentateurs discutent d’articles scientifiques devant une assistance composée d’ORL\, de médecins et de résidents. Ces soirées permettent des échanges très formateurs entre les différents professionnels présents sur place ou en visioconférence.
URL:https://orlumtl.ca/evenement/journal-club-7/
LOCATION:Amphithéâtre du CHU Sainte-Justine\, 3175 Chemin de la Côte-Sainte-Catherine\, Montréal\, Qc\, H3T 1C5\, Canada
CATEGORIES:Journal Club
ATTACH;FMTTYPE=image/png:https://orlumtl.ca/wp-content/uploads/2017/03/Icône-Journal-club-01-1.png
END:VEVENT
BEGIN:VEVENT
DTSTART;TZID=America/New_York:20200224T173000
DTEND;TZID=America/New_York:20200224T191500
DTSTAMP:20260420T121112
CREATED:20181122T185320Z
LAST-MODIFIED:20190909T230208Z
UID:2447-1582565400-1582571700@orlumtl.ca
SUMMARY:Grand Rounds
DESCRIPTION:Les soirées académiques du programme d’ORL de l’Université de Montréal sont une activité de formation collective qui s’adressent à tous les ORL du Québec. Ces réunions bimensuelles qui se déroulent à l’Hôpital Sainte-Justine de Montréal sont conformes au exigences pour le maintien du certificat du Collège royal des médecins et des chirurgiens du Canada. Lors des Grand Rounds\, les présentateurs discutent de cas cliniques devant une assistance composée d’ORL\, de médecins et de résidents. Ces soirées permettent des échanges très formateurs entre les différents professionnels présents sur place ou en visioconférence.
URL:https://orlumtl.ca/evenement/grand-rounds-13/
LOCATION:Amphithéâtre du CHU Sainte-Justine\, 3175 Chemin de la Côte-Sainte-Catherine\, Montréal\, Qc\, H3T 1C5\, Canada
CATEGORIES:Grand Round
ATTACH;FMTTYPE=image/png:https://orlumtl.ca/wp-content/uploads/2017/03/Icône-Grand-Round-01-1.png
END:VEVENT
BEGIN:VEVENT
DTSTART;TZID=America/New_York:20200127T183000
DTEND;TZID=America/New_York:20200127T191500
DTSTAMP:20260420T121112
CREATED:20181120T193519Z
LAST-MODIFIED:20190909T230124Z
UID:2422-1580149800-1580152500@orlumtl.ca
SUMMARY:Journal Club
DESCRIPTION:Les soirées académiques du programme d’ORL de l’Université de Montréal sont une activité de formation collective qui s’adressent à tous les ORL du Québec. Ces réunions bimensuelles qui se déroulent à l’Hôpital Sainte-Justine de Montréal sont conformes au exigences pour le maintien du certificat du Collège royal des médecins et des chirurgiens du Canada. Lors des Journal Club\, les présentateurs discutent d’articles scientifiques devant une assistance composée d’ORL\, de médecins et de résidents. Ces soirées permettent des échanges très formateurs entre les différents professionnels présents sur place ou en visioconférence.
URL:https://orlumtl.ca/evenement/journal-club-11/
LOCATION:Amphithéâtre du CHU Sainte-Justine\, 3175 Chemin de la Côte-Sainte-Catherine\, Montréal\, Qc\, H3T 1C5\, Canada
CATEGORIES:Journal Club
ATTACH;FMTTYPE=image/png:https://orlumtl.ca/wp-content/uploads/2017/03/Icône-Journal-club-01-1.png
END:VEVENT
BEGIN:VEVENT
DTSTART;TZID=America/New_York:20200113T173000
DTEND;TZID=America/New_York:20200113T183000
DTSTAMP:20260420T121112
CREATED:20181120T194124Z
LAST-MODIFIED:20190909T230046Z
UID:2426-1578936600-1578940200@orlumtl.ca
SUMMARY:Grand Rounds
DESCRIPTION:Les soirées académiques du programme d’ORL de l’Université de Montréal sont une activité de formation collective qui s’adressent à tous les ORL du Québec. Ces réunions bimensuelles qui se déroulent à l’Hôpital Sainte-Justine de Montréal sont conformes au exigences pour le maintien du certificat du Collège royal des médecins et des chirurgiens du Canada. Lors des Grand Rounds\, les présentateurs discutent de cas cliniques devant une assistance composée d’ORL\, de médecins et de résidents. Ces soirées permettent des échanges très formateurs entre les différents professionnels présents sur place ou en visioconférence.
URL:https://orlumtl.ca/evenement/grand-rounds-10/
LOCATION:Amphithéâtre du CHU Sainte-Justine\, 3175 Chemin de la Côte-Sainte-Catherine\, Montréal\, Qc\, H3T 1C5\, Canada
CATEGORIES:Grand Round
ATTACH;FMTTYPE=image/png:https://orlumtl.ca/wp-content/uploads/2017/03/Icône-Grand-Round-01-1.png
END:VEVENT
BEGIN:VEVENT
DTSTART;TZID=America/New_York:20191216T183000
DTEND;TZID=America/New_York:20191216T191500
DTSTAMP:20260420T121112
CREATED:20181120T193833Z
LAST-MODIFIED:20190909T225936Z
UID:2424-1576521000-1576523700@orlumtl.ca
SUMMARY:Journal Club
DESCRIPTION:Les soirées académiques du programme d’ORL de l’Université de Montréal sont une activité de formation collective qui s’adressent à tous les ORL du Québec. Ces réunions bimensuelles qui se déroulent à l’Hôpital Sainte-Justine de Montréal sont conformes au exigences pour le maintien du certificat du Collège royal des médecins et des chirurgiens du Canada. Lors des Journal Club\, les présentateurs discutent d’articles scientifiques devant une assistance composée d’ORL\, de médecins et de résidents. Ces soirées permettent des échanges très formateurs entre les différents professionnels présents sur place ou en visioconférence.
URL:https://orlumtl.ca/evenement/journal-club-12/
LOCATION:Amphithéâtre du CHU Sainte-Justine\, 3175 Chemin de la Côte-Sainte-Catherine\, Montréal\, Qc\, H3T 1C5\, Canada
CATEGORIES:Journal Club
ATTACH;FMTTYPE=image/png:https://orlumtl.ca/wp-content/uploads/2017/03/Icône-Journal-club-01-1.png
END:VEVENT
BEGIN:VEVENT
DTSTART;TZID=America/New_York:20191202T173000
DTEND;TZID=America/New_York:20191202T183000
DTSTAMP:20260420T121112
CREATED:20170822T185312Z
LAST-MODIFIED:20190909T231117Z
UID:2083-1575307800-1575311400@orlumtl.ca
SUMMARY:Grand Rounds
DESCRIPTION:Les soirées académiques du programme d’ORL de l’Université de Montréal sont une activité de formation collective qui s’adressent à tous les ORL du Québec. Ces réunions bimensuelles qui se déroulent à l’Hôpital Sainte-Justine de Montréal sont conformes au exigences pour le maintien du certificat du Collège royal des médecins et des chirurgiens du Canada. Lors des Grand Rounds\, les présentateurs discutent de cas cliniques devant une assistance composée d’ORL\, de médecins et de résidents. Ces soirées permettent des échanges très formateurs entre les différents professionnels présents sur place ou en visioconférence.
URL:https://orlumtl.ca/evenement/grand-rounds-6/
LOCATION:Amphithéâtre du CHU Sainte-Justine\, 3175 Chemin de la Côte-Sainte-Catherine\, Montréal\, Qc\, H3T 1C5\, Canada
CATEGORIES:Grand Round
ATTACH;FMTTYPE=image/png:https://orlumtl.ca/wp-content/uploads/2017/03/Icône-Grand-Round-01-1.png
END:VEVENT
BEGIN:VEVENT
DTSTART;TZID=America/New_York:20191118T183000
DTEND;TZID=America/New_York:20191118T191500
DTSTAMP:20260420T121112
CREATED:20181120T194558Z
LAST-MODIFIED:20190909T225815Z
UID:2428-1574101800-1574104500@orlumtl.ca
SUMMARY:Journal Club
DESCRIPTION:Les soirées académiques du programme d’ORL de l’Université de Montréal sont une activité de formation collective qui s’adressent à tous les ORL du Québec. Ces réunions bimensuelles qui se déroulent à l’Hôpital Sainte-Justine de Montréal sont conformes au exigences pour le maintien du certificat du Collège royal des médecins et des chirurgiens du Canada. Lors des Journal Club\, les présentateurs discutent d’articles scientifiques devant une assistance composée d’ORL\, de médecins et de résidents. Ces soirées permettent des échanges très formateurs entre les différents professionnels présents sur place ou en visioconférence.
URL:https://orlumtl.ca/evenement/journal-club-13/
LOCATION:Amphithéâtre du CHU Sainte-Justine\, 3175 Chemin de la Côte-Sainte-Catherine\, Montréal\, Qc\, H3T 1C5\, Canada
CATEGORIES:Journal Club
ATTACH;FMTTYPE=image/png:https://orlumtl.ca/wp-content/uploads/2017/03/Icône-Journal-club-01-1.png
END:VEVENT
BEGIN:VEVENT
DTSTART;TZID=America/New_York:20191104T173000
DTEND;TZID=America/New_York:20191104T183000
DTSTAMP:20260420T121112
CREATED:20170822T184915Z
LAST-MODIFIED:20190909T231028Z
UID:2079-1572888600-1572892200@orlumtl.ca
SUMMARY:Grand Rounds
DESCRIPTION:Les soirées académiques du programme d’ORL de l’Université de Montréal sont une activité de formation collective qui s’adressent à tous les ORL du Québec. Ces réunions bimensuelles qui se déroulent à l’Hôpital Sainte-Justine de Montréal sont conformes au exigences pour le maintien du certificat du Collège royal des médecins et des chirurgiens du Canada. Lors des Grand Rounds\, les présentateurs discutent de cas cliniques devant une assistance composée d’ORL\, de médecins et de résidents. Ces soirées permettent des échanges très formateurs entre les différents professionnels présents sur place ou en visioconférence.
URL:https://orlumtl.ca/evenement/grand-rounds-5/
LOCATION:Amphithéâtre du CHU Sainte-Justine\, 3175 Chemin de la Côte-Sainte-Catherine\, Montréal\, Qc\, H3T 1C5\, Canada
CATEGORIES:Grand Round
ATTACH;FMTTYPE=image/png:https://orlumtl.ca/wp-content/uploads/2017/03/Icône-Grand-Round-01-1.png
END:VEVENT
BEGIN:VEVENT
DTSTART;TZID=America/New_York:20191021T183000
DTEND;TZID=America/New_York:20191021T191500
DTSTAMP:20260420T121112
CREATED:20181120T194934Z
LAST-MODIFIED:20190909T225631Z
UID:2432-1571682600-1571685300@orlumtl.ca
SUMMARY:Journal Club
DESCRIPTION:Les soirées académiques du programme d’ORL de l’Université de Montréal sont une activité de formation collective qui s’adressent à tous les ORL du Québec. Ces réunions bimensuelles qui se déroulent à l’Hôpital Sainte-Justine de Montréal sont conformes au exigences pour le maintien du certificat du Collège royal des médecins et des chirurgiens du Canada. Lors des Journal Club\, les présentateurs discutent d’articles scientifiques devant une assistance composée d’ORL\, de médecins et de résidents. Ces soirées permettent des échanges très formateurs entre les différents professionnels présents sur place ou en visioconférence.
URL:https://orlumtl.ca/evenement/journal-club-14/
LOCATION:Amphithéâtre du CHU Sainte-Justine\, 3175 Chemin de la Côte-Sainte-Catherine\, Montréal\, Qc\, H3T 1C5\, Canada
CATEGORIES:Journal Club
ATTACH;FMTTYPE=image/png:https://orlumtl.ca/wp-content/uploads/2017/03/Icône-Journal-club-01-1.png
END:VEVENT
BEGIN:VEVENT
DTSTART;TZID=America/New_York:20191007T173000
DTEND;TZID=America/New_York:20191007T183000
DTSTAMP:20260420T121112
CREATED:20181120T195352Z
LAST-MODIFIED:20190909T225424Z
UID:2436-1570469400-1570473000@orlumtl.ca
SUMMARY:Grand Rounds
DESCRIPTION:Les soirées académiques du programme d’ORL de l’Université de Montréal sont une activité de formation collective qui s’adressent à tous les ORL du Québec. Ces réunions bimensuelles qui se déroulent à l’Hôpital Sainte-Justine de Montréal sont conformes au exigences pour le maintien du certificat du Collège royal des médecins et des chirurgiens du Canada. Lors des Grand Rounds\, les présentateurs discutent de cas cliniques devant une assistance composée d’ORL\, de médecins et de résidents. Ces soirées permettent des échanges très formateurs entre les différents professionnels présents sur place ou en visioconférence.
URL:https://orlumtl.ca/evenement/grand-rounds-12/
LOCATION:Amphithéâtre du CHU Sainte-Justine\, 3175 Chemin de la Côte-Sainte-Catherine\, Montréal\, Qc\, H3T 1C5\, Canada
CATEGORIES:Grand Round
ATTACH;FMTTYPE=image/png:https://orlumtl.ca/wp-content/uploads/2017/03/Icône-Grand-Round-01-1.png
END:VEVENT
END:VCALENDAR